BEGIN:VCALENDAR
CALSCALE:GREGORIAN
VERSION:2.0
METHOD:PUBLISH 
X-WR-CALNAME:
BEGIN:VEVENT
DTSTART;TZID=Europe/Paris:20260417T180000
DTEND;TZID=Europe/Paris:20260417T190000
SUMMARY:D’une utopie à l’autre
CATEGORIE:Expositions, Visites et Découvertes
GEO:43.83658700000000;4.35772900000000
LOCATION:4 rue Maubet\, 30000 Nîmes\, France
URL:https://www.fest.fr/e/2425651
UID:2425651-1@fest.fr
END:VEVENT
END:VCALENDAR
