BEGIN:VCALENDAR
CALSCALE:GREGORIAN
VERSION:2.0
METHOD:PUBLISH 
X-WR-CALNAME:
BEGIN:VEVENT
DTSTART;TZID=Europe/Paris:20260421T193000
DTEND;TZID=Europe/Paris:20260421T203000
SUMMARY:Soirée-débat : Femmes : Mon corps, mon choix
CATEGORIE:Conférences, Forums et Débats
GEO:44.90769500000000;4.88636600000000
LOCATION:95 avenue de la Libération
Centre Culturel  de  Fontlozier\, 26000 Valence\, France
URL:https://www.fest.fr/e/2425639
UID:2425639-1@fest.fr
END:VEVENT
END:VCALENDAR
