BEGIN:VCALENDAR
CALSCALE:GREGORIAN
VERSION:2.0
METHOD:PUBLISH 
X-WR-CALNAME:
BEGIN:VEVENT
DTSTART;TZID=Europe/Paris:20260410T170000
DTEND;TZID=Europe/Paris:20260410T180000
SUMMARY:La Guinguette du Moulin Urbain
CATEGORIE:Fêtes et Animations
GEO:44.93405000000000;4.89356100000000
LOCATION:7 rue belle image
Dans la cour de Fabrico\, 26000 Valence\, France
URL:https://www.fest.fr/e/2425523
UID:2425523-1@fest.fr
END:VEVENT
END:VCALENDAR
