BEGIN:VCALENDAR
CALSCALE:GREGORIAN
VERSION:2.0
METHOD:PUBLISH 
X-WR-CALNAME:
BEGIN:VEVENT
DTSTART;TZID=Europe/Paris:20260421T201500
DTEND;TZID=Europe/Paris:20260421T211500
SUMMARY:BBC Comedy Club - 127
CATEGORIE:Spectacles et Théâtre
GEO:48.69013600000000;6.17958300000000
LOCATION:3 rue Gilbert\, 54000 Nancy\, France
URL:https://www.fest.fr/e/2425466
UID:2425466-1@fest.fr
END:VEVENT
END:VCALENDAR
