BEGIN:VCALENDAR
CALSCALE:GREGORIAN
VERSION:2.0
METHOD:PUBLISH 
X-WR-CALNAME:
BEGIN:VEVENT
DTSTART;TZID=Europe/Paris:20260425T100000
DTEND;TZID=Europe/Paris:20260425T110000
SUMMARY:Bébés lecteurs
CATEGORIE:Littérature
GEO:49.05482400000000;7.43016700000000
LOCATION:44 rue Saint Augustin
Médiathèque Joseph Schaefer\, 57230 Bitche\, France
URL:https://www.fest.fr/e/2425334
UID:2425334-1@fest.fr
END:VEVENT
BEGIN:VEVENT
DTSTART;TZID=Europe/Paris:20260425T110000
DTEND;TZID=Europe/Paris:20260425T120000
SUMMARY:Bébés lecteurs
CATEGORIE:Littérature
GEO:49.05482400000000;7.43016700000000
LOCATION:44 rue Saint Augustin
Médiathèque Joseph Schaefer\, 57230 Bitche\, France
URL:https://www.fest.fr/e/2425334
UID:2425334-2@fest.fr
END:VEVENT
END:VCALENDAR
