BEGIN:VCALENDAR
CALSCALE:GREGORIAN
VERSION:2.0
METHOD:PUBLISH 
X-WR-CALNAME:
BEGIN:VEVENT
DTSTART;TZID=Europe/Paris:20260617T150000
DTEND;TZID=Europe/Paris:20260617T160000
SUMMARY:Don du sang
CATEGORIE:Social et solidaire
GEO:44.86695900000000;0.48415100000000
LOCATION:Rue du Sergent Rey
Salle René Coicaud\, 24100 Bergerac\, France
URL:https://www.fest.fr/e/2425089
UID:2425089-1@fest.fr
END:VEVENT
BEGIN:VEVENT
DTSTART;TZID=Europe/Paris:20260618T150000
DTEND;TZID=Europe/Paris:20260618T160000
SUMMARY:Don du sang
CATEGORIE:Social et solidaire
GEO:44.86695900000000;0.48415100000000
LOCATION:Rue du Sergent Rey
Salle René Coicaud\, 24100 Bergerac\, France
URL:https://www.fest.fr/e/2425089
UID:2425089-2@fest.fr
END:VEVENT
BEGIN:VEVENT
DTSTART;TZID=Europe/Paris:20260619T150000
DTEND;TZID=Europe/Paris:20260619T160000
SUMMARY:Don du sang
CATEGORIE:Social et solidaire
GEO:44.86695900000000;0.48415100000000
LOCATION:Rue du Sergent Rey
Salle René Coicaud\, 24100 Bergerac\, France
URL:https://www.fest.fr/e/2425089
UID:2425089-3@fest.fr
END:VEVENT
BEGIN:VEVENT
DTSTART;TZID=Europe/Paris:20260708T150000
DTEND;TZID=Europe/Paris:20260708T160000
SUMMARY:Don du sang
CATEGORIE:Social et solidaire
GEO:44.86695900000000;0.48415100000000
LOCATION:Rue du Sergent Rey
Salle René Coicaud\, 24100 Bergerac\, France
URL:https://www.fest.fr/e/2425089
UID:2425089-4@fest.fr
END:VEVENT
BEGIN:VEVENT
DTSTART;TZID=Europe/Paris:20260817T150000
DTEND;TZID=Europe/Paris:20260817T160000
SUMMARY:Don du sang
CATEGORIE:Social et solidaire
GEO:44.86695900000000;0.48415100000000
LOCATION:Rue du Sergent Rey
Salle René Coicaud\, 24100 Bergerac\, France
URL:https://www.fest.fr/e/2425089
UID:2425089-5@fest.fr
END:VEVENT
BEGIN:VEVENT
DTSTART;TZID=Europe/Paris:20260818T150000
DTEND;TZID=Europe/Paris:20260818T160000
SUMMARY:Don du sang
CATEGORIE:Social et solidaire
GEO:44.86695900000000;0.48415100000000
LOCATION:Rue du Sergent Rey
Salle René Coicaud\, 24100 Bergerac\, France
URL:https://www.fest.fr/e/2425089
UID:2425089-6@fest.fr
END:VEVENT
BEGIN:VEVENT
DTSTART;TZID=Europe/Paris:20260819T150000
DTEND;TZID=Europe/Paris:20260819T160000
SUMMARY:Don du sang
CATEGORIE:Social et solidaire
GEO:44.86695900000000;0.48415100000000
LOCATION:Rue du Sergent Rey
Salle René Coicaud\, 24100 Bergerac\, France
URL:https://www.fest.fr/e/2425089
UID:2425089-7@fest.fr
END:VEVENT
BEGIN:VEVENT
DTSTART;TZID=Europe/Paris:20261019T150000
DTEND;TZID=Europe/Paris:20261019T160000
SUMMARY:Don du sang
CATEGORIE:Social et solidaire
GEO:44.86695900000000;0.48415100000000
LOCATION:Rue du Sergent Rey
Salle René Coicaud\, 24100 Bergerac\, France
URL:https://www.fest.fr/e/2425089
UID:2425089-8@fest.fr
END:VEVENT
BEGIN:VEVENT
DTSTART;TZID=Europe/Paris:20261020T150000
DTEND;TZID=Europe/Paris:20261020T160000
SUMMARY:Don du sang
CATEGORIE:Social et solidaire
GEO:44.86695900000000;0.48415100000000
LOCATION:Rue du Sergent Rey
Salle René Coicaud\, 24100 Bergerac\, France
URL:https://www.fest.fr/e/2425089
UID:2425089-9@fest.fr
END:VEVENT
BEGIN:VEVENT
DTSTART;TZID=Europe/Paris:20261217T150000
DTEND;TZID=Europe/Paris:20261217T160000
SUMMARY:Don du sang
CATEGORIE:Social et solidaire
GEO:44.86695900000000;0.48415100000000
LOCATION:Rue du Sergent Rey
Salle René Coicaud\, 24100 Bergerac\, France
URL:https://www.fest.fr/e/2425089
UID:2425089-10@fest.fr
END:VEVENT
BEGIN:VEVENT
DTSTART;TZID=Europe/Paris:20261218T150000
DTEND;TZID=Europe/Paris:20261218T160000
SUMMARY:Don du sang
CATEGORIE:Social et solidaire
GEO:44.86695900000000;0.48415100000000
LOCATION:Rue du Sergent Rey
Salle René Coicaud\, 24100 Bergerac\, France
URL:https://www.fest.fr/e/2425089
UID:2425089-11@fest.fr
END:VEVENT
END:VCALENDAR
