BEGIN:VCALENDAR
CALSCALE:GREGORIAN
VERSION:2.0
METHOD:PUBLISH 
X-WR-CALNAME:
BEGIN:VEVENT
DTSTART;TZID=Europe/Paris:20260720T190000
DTEND;TZID=Europe/Paris:20260720T200000
SUMMARY:Soirée jeux de société
CATEGORIE:Jeux et Concours
GEO:43.92084980000000;-1.24788260000000
LOCATION:Halle\, 40260 Linxe\, France
URL:https://www.fest.fr/e/2425084
UID:2425084-1@fest.fr
END:VEVENT
END:VCALENDAR
