BEGIN:VCALENDAR
CALSCALE:GREGORIAN
VERSION:2.0
METHOD:PUBLISH 
X-WR-CALNAME:
BEGIN:VEVENT
DTSTART;TZID=Europe/Paris:20260730T183000
DTEND;TZID=Europe/Paris:20260730T193000
SUMMARY:Marché festif Saint Paul la Roche
CATEGORIE:Marchés, Foires et Salons
GEO:45.47801000000000;0.99957000000000
LOCATION:Lieu-dit Le Bourg\, 24800 Saint-Paul-la-Roche\, France
URL:https://www.fest.fr/e/2424988
UID:2424988-1@fest.fr
END:VEVENT
END:VCALENDAR
