BEGIN:VCALENDAR
CALSCALE:GREGORIAN
VERSION:2.0
METHOD:PUBLISH 
X-WR-CALNAME:
BEGIN:VEVENT
DTSTART;TZID=Europe/Paris:20261205T080000
DTEND;TZID=Europe/Paris:20261205T090000
SUMMARY:Marché Traditionnel
CATEGORIE:Marchés, Foires et Salons
GEO:43.49038430000000;-1.47499690000000
LOCATION:Carreau des halles\, 64100 Bayonne\, France
URL:https://www.fest.fr/e/2424900
UID:2424900-1@fest.fr
END:VEVENT
END:VCALENDAR
