BEGIN:VCALENDAR
CALSCALE:GREGORIAN
VERSION:2.0
METHOD:PUBLISH 
X-WR-CALNAME:
BEGIN:VEVENT
DTSTART;TZID=Europe/Paris:20260414T100000
DTEND;TZID=Europe/Paris:20260414T110000
SUMMARY:Atelier pour enfants : Mochis
CATEGORIE:Stages, Ateliers et Initiations
GEO:43.36595000000000;-1.41084250000000
LOCATION:13 Rue Azpikoa\, 64250 Cambo-les-Bains\, France
URL:https://www.fest.fr/e/2424722
UID:2424722-1@fest.fr
END:VEVENT
END:VCALENDAR
