BEGIN:VCALENDAR
CALSCALE:GREGORIAN
VERSION:2.0
METHOD:PUBLISH 
X-WR-CALNAME:
BEGIN:VEVENT
DTSTART;TZID=Europe/Paris:20260530T110000
DTEND;TZID=Europe/Paris:20260530T120000
SUMMARY:Bébés lecteurs
CATEGORIE:Littérature
GEO:43.63015400000000;-1.20193000000000
LOCATION:Médiathèque de Pey\, 40300 Peyrehorade\, France
URL:https://www.fest.fr/e/2424642
UID:2424642-1@fest.fr
END:VEVENT
END:VCALENDAR
