BEGIN:VCALENDAR
CALSCALE:GREGORIAN
VERSION:2.0
METHOD:PUBLISH 
X-WR-CALNAME:
BEGIN:VEVENT
DTSTART;TZID=Europe/Paris:20260417T100000
DTEND;TZID=Europe/Paris:20260417T110000
SUMMARY:Lecture de portfolios à Niort
CATEGORIE:Stages, Ateliers et Initiations
GEO:46.32227200000000;-0.45468530000000
LOCATION:64 Rue Paul François Proust
Villa Pérochon\, 79000 Niort\, France
URL:https://www.fest.fr/e/2424595
UID:2424595-1@fest.fr
END:VEVENT
END:VCALENDAR
