BEGIN:VCALENDAR
CALSCALE:GREGORIAN
VERSION:2.0
METHOD:PUBLISH 
X-WR-CALNAME:
BEGIN:VEVENT
DTSTART;TZID=Europe/Paris:20260429T140000
DTEND;TZID=Europe/Paris:20260429T150000
SUMMARY:Atelier : Pâtisserie parent/enfant
CATEGORIE:Stages, Ateliers et Initiations
GEO:43.31934710000000;-0.57979990000000
LOCATION:16 Place Henri Lacabanne
La Mémo\, 64360 Monein\, France
URL:https://www.fest.fr/e/2424533
UID:2424533-1@fest.fr
END:VEVENT
END:VCALENDAR
