BEGIN:VCALENDAR
CALSCALE:GREGORIAN
VERSION:2.0
METHOD:PUBLISH 
X-WR-CALNAME:
BEGIN:VEVENT
DTSTART;TZID=Europe/Paris:20260805T100000
DTEND;TZID=Europe/Paris:20260805T110000
SUMMARY:Atelier scientifique - Fabrique ta boîte à éclipse
CATEGORIE:Stages, Ateliers et Initiations
GEO:43.37728560000000;-1.74933410000000
LOCATION:Abbadia, le Château-Observatoire
Route de la Corniche\, 64700 Hendaye\, France
URL:https://www.fest.fr/e/2424523
UID:2424523-1@fest.fr
END:VEVENT
END:VCALENDAR
