BEGIN:VCALENDAR
CALSCALE:GREGORIAN
VERSION:2.0
METHOD:PUBLISH 
X-WR-CALNAME:
BEGIN:VEVENT
DTSTART;TZID=Europe/Paris:20260524T184500
DTEND;TZID=Europe/Paris:20260524T194500
SUMMARY:Festival Mi/Mi - Spectacle La Cerisaie
CATEGORIE:Spectacles et Théâtre
GEO:45.67486470000000;1.18923392000000
LOCATION:6 place de l'Église
Le Vaisseau - Parc du Château\, 87800 Nexon\, France
URL:https://www.fest.fr/e/2424391
UID:2424391-1@fest.fr
END:VEVENT
BEGIN:VEVENT
DTSTART;TZID=Europe/Paris:20260525T184500
DTEND;TZID=Europe/Paris:20260525T194500
SUMMARY:Festival Mi/Mi - Spectacle La Cerisaie
CATEGORIE:Spectacles et Théâtre
GEO:45.67486470000000;1.18923392000000
LOCATION:6 place de l'Église
Le Vaisseau - Parc du Château\, 87800 Nexon\, France
URL:https://www.fest.fr/e/2424391
UID:2424391-2@fest.fr
END:VEVENT
END:VCALENDAR
