BEGIN:VCALENDAR
CALSCALE:GREGORIAN
VERSION:2.0
METHOD:PUBLISH 
X-WR-CALNAME:
BEGIN:VEVENT
DTSTART;TZID=Europe/Paris:20260530T203000
DTEND;TZID=Europe/Paris:20260530T213000
SUMMARY:"Arrête de pleurer Pénélope!"
CATEGORIE:Spectacles et Théâtre
GEO:44.91887230000000;-0.24621120000000
LOCATION:11 route de Loiseau\, 33126 Fronsac\, France
URL:https://www.fest.fr/e/2424386
UID:2424386-1@fest.fr
END:VEVENT
END:VCALENDAR
