BEGIN:VCALENDAR
CALSCALE:GREGORIAN
VERSION:2.0
METHOD:PUBLISH 
X-WR-CALNAME:
BEGIN:VEVENT
DTSTART;TZID=Europe/Paris:20260416T150000
DTEND;TZID=Europe/Paris:20260416T160000
SUMMARY:Atelier dessin et peinture
CATEGORIE:Stages, Ateliers et Initiations
GEO:43.35721000000000;-1.39599000000000
LOCATION:6 Square Albenitz
Salle AIEC\, 64250 Cambo-les-Bains\, France
URL:https://www.fest.fr/e/2424306
UID:2424306-1@fest.fr
END:VEVENT
END:VCALENDAR
