BEGIN:VCALENDAR
CALSCALE:GREGORIAN
VERSION:2.0
METHOD:PUBLISH 
X-WR-CALNAME:
BEGIN:VEVENT
DTSTART;TZID=Europe/Paris:20260425T143000
DTEND;TZID=Europe/Paris:20260425T153000
SUMMARY:Bal country
CATEGORIE:Bals et Thés Dansants
GEO:44.76457460000000;-1.14198200000000
LOCATION:domaine des Lugées\, 33740 Arès\, France
URL:https://www.fest.fr/e/2424190
UID:2424190-1@fest.fr
END:VEVENT
END:VCALENDAR
