BEGIN:VCALENDAR
CALSCALE:GREGORIAN
VERSION:2.0
METHOD:PUBLISH 
X-WR-CALNAME:
BEGIN:VEVENT
DTSTART;TZID=Europe/Paris:20260429T150000
DTEND;TZID=Europe/Paris:20260429T160000
SUMMARY:Escape Game Château de Gramont
CATEGORIE:Jeux et Concours
GEO:43.48427490000000;-1.13881260000000
LOCATION:Allée de Gramont\, 64520 Bidache\, France
URL:https://www.fest.fr/e/2424163
UID:2424163-1@fest.fr
END:VEVENT
END:VCALENDAR
