BEGIN:VCALENDAR
CALSCALE:GREGORIAN
VERSION:2.0
METHOD:PUBLISH 
X-WR-CALNAME:
BEGIN:VEVENT
DTSTART;TZID=Europe/Paris:20260420T140000
DTEND;TZID=Europe/Paris:20260420T150000
SUMMARY:Découverte et initiation au mus et à la belote
CATEGORIE:Stages, Ateliers et Initiations
GEO:43.18918000000000;-0.77038000000000
LOCATION:Salle Floreana\, 64130 Barcus\, France
URL:https://www.fest.fr/e/2424149
UID:2424149-1@fest.fr
END:VEVENT
END:VCALENDAR
