BEGIN:VCALENDAR
CALSCALE:GREGORIAN
VERSION:2.0
METHOD:PUBLISH 
X-WR-CALNAME:
BEGIN:VEVENT
DTSTART;TZID=Europe/Paris:20260522T183000
DTEND;TZID=Europe/Paris:20260522T193000
SUMMARY:Semaine de l'Espace - Observer le ciel : mythes, science et idées reçues
CATEGORIE:Conférences, Forums et Débats
GEO:44.39463710000000;-1.16720990000000
LOCATION:296 Pl. Charles de Gaulle
296 Place Charles de Gaulle\, 40600 Biscarrosse\, France
URL:https://www.fest.fr/e/2424086
UID:2424086-1@fest.fr
END:VEVENT
END:VCALENDAR
