BEGIN:VCALENDAR
CALSCALE:GREGORIAN
VERSION:2.0
METHOD:PUBLISH 
X-WR-CALNAME:
BEGIN:VEVENT
DTSTART;TZID=Europe/Paris:20260414T110000
DTEND;TZID=Europe/Paris:20260414T120000
SUMMARY:Visite de la brasserie Rosny Beer
CATEGORIE:Expositions, Visites et Découvertes
GEO:43.68061130000000;-1.35990570000000
LOCATION:705 avenue de Larrigan
Z.A Larrigan\, 40510 Seignosse\, France
URL:https://www.fest.fr/e/2423765
UID:2423765-1@fest.fr
END:VEVENT
END:VCALENDAR
