BEGIN:VCALENDAR
CALSCALE:GREGORIAN
VERSION:2.0
METHOD:PUBLISH 
X-WR-CALNAME:
BEGIN:VEVENT
DTSTART;TZID=Europe/Paris:20260617T080000
DTEND;TZID=Europe/Paris:20260617T090000
SUMMARY:Marché de plein air
CATEGORIE:Marchés, Foires et Salons
GEO:43.27659470000000;-0.35723970000000
LOCATION:Centre bourg
Place de la fontaine\, 64110 Mazères-Lezons\, France
URL:https://www.fest.fr/e/2423733
UID:2423733-1@fest.fr
END:VEVENT
END:VCALENDAR
