BEGIN:VCALENDAR
CALSCALE:GREGORIAN
VERSION:2.0
METHOD:PUBLISH 
X-WR-CALNAME:
BEGIN:VEVENT
DTSTART;TZID=Europe/Paris:20260421T100000
DTEND;TZID=Europe/Paris:20260421T110000
SUMMARY:Séances de Qigong en plein air
CATEGORIE:Stages, Ateliers et Initiations
GEO:49.23903514105736;1.40020019501866
LOCATION:Bord de Seine\, Quai Signac\, 27700 Les Andelys\, France
URL:https://www.fest.fr/e/2423701
UID:2423701-1@fest.fr
END:VEVENT
BEGIN:VEVENT
DTSTART;TZID=Europe/Paris:20260423T150000
DTEND;TZID=Europe/Paris:20260423T160000
SUMMARY:Séances de Qigong en plein air
CATEGORIE:Stages, Ateliers et Initiations
GEO:49.23903514105736;1.40020019501866
LOCATION:Bord de Seine\, Quai Signac\, 27700 Les Andelys\, France
URL:https://www.fest.fr/e/2423701
UID:2423701-2@fest.fr
END:VEVENT
BEGIN:VEVENT
DTSTART;TZID=Europe/Paris:20260424T100000
DTEND;TZID=Europe/Paris:20260424T110000
SUMMARY:Séances de Qigong en plein air
CATEGORIE:Stages, Ateliers et Initiations
GEO:49.23903514105736;1.40020019501866
LOCATION:Bord de Seine\, Quai Signac\, 27700 Les Andelys\, France
URL:https://www.fest.fr/e/2423701
UID:2423701-3@fest.fr
END:VEVENT
END:VCALENDAR
