BEGIN:VCALENDAR
CALSCALE:GREGORIAN
VERSION:2.0
METHOD:PUBLISH 
X-WR-CALNAME:
BEGIN:VEVENT
DTSTART;TZID=Europe/Paris:20260610T151500
DTEND;TZID=Europe/Paris:20260610T161500
SUMMARY:La Corniche vue de la mer
CATEGORIE:Expositions, Visites et Découvertes
GEO:43.37027000000000;-1.78567000000000
LOCATION:Avenue des Mimosas
Explore Ocean\, 64700 Hendaye\, France
URL:https://www.fest.fr/e/2423574
UID:2423574-1@fest.fr
END:VEVENT
END:VCALENDAR
