BEGIN:VCALENDAR
CALSCALE:GREGORIAN
VERSION:2.0
METHOD:PUBLISH 
X-WR-CALNAME:
BEGIN:VEVENT
DTSTART;TZID=Europe/Paris:20260416T193000
DTEND;TZID=Europe/Paris:20260416T203000
SUMMARY:Concert Dynasora
CATEGORIE:Concerts et Musique
GEO:43.29386783539714;5.38627563342228
LOCATION:Artless Gallery & English Bookstore\, 1 Rue Ferdinand Rey\, 13006 Marseille 6e\, France
URL:https://www.fest.fr/e/2423532
UID:2423532-1@fest.fr
END:VEVENT
END:VCALENDAR
