BEGIN:VCALENDAR
CALSCALE:GREGORIAN
VERSION:2.0
METHOD:PUBLISH 
X-WR-CALNAME:
BEGIN:VEVENT
DTSTART;TZID=Europe/Paris:20260820T100000
DTEND;TZID=Europe/Paris:20260820T110000
SUMMARY:Été actif : Spéléologie
CATEGORIE:Stages, Ateliers et Initiations
GEO:45.49406110000000;0.50005740000000
LOCATION:Stade de football de Beaussac\, 24340 Mareuil en Périgord\, France
URL:https://www.fest.fr/e/2423491
UID:2423491-1@fest.fr
END:VEVENT
END:VCALENDAR
