BEGIN:VCALENDAR
CALSCALE:GREGORIAN
VERSION:2.0
METHOD:PUBLISH 
X-WR-CALNAME:
BEGIN:VEVENT
DTSTART;TZID=Europe/Paris:20260421T190000
DTEND;TZID=Europe/Paris:20260421T200000
SUMMARY:Yoga de l’Âme
CATEGORIE:Stages, Ateliers et Initiations
GEO:44.31195430000000;-1.01336440000000
LOCATION:114 Chemin de Jeanton
Espace hÔMe\, 40160 Parentis-en-Born\, France
URL:https://www.fest.fr/e/2423489
UID:2423489-1@fest.fr
END:VEVENT
BEGIN:VEVENT
DTSTART;TZID=Europe/Paris:20260428T190000
DTEND;TZID=Europe/Paris:20260428T200000
SUMMARY:Yoga de l’Âme
CATEGORIE:Stages, Ateliers et Initiations
GEO:44.31195430000000;-1.01336440000000
LOCATION:114 Chemin de Jeanton
Espace hÔMe\, 40160 Parentis-en-Born\, France
URL:https://www.fest.fr/e/2423489
UID:2423489-2@fest.fr
END:VEVENT
BEGIN:VEVENT
DTSTART;TZID=Europe/Paris:20260505T190000
DTEND;TZID=Europe/Paris:20260505T200000
SUMMARY:Yoga de l’Âme
CATEGORIE:Stages, Ateliers et Initiations
GEO:44.31195430000000;-1.01336440000000
LOCATION:114 Chemin de Jeanton
Espace hÔMe\, 40160 Parentis-en-Born\, France
URL:https://www.fest.fr/e/2423489
UID:2423489-3@fest.fr
END:VEVENT
BEGIN:VEVENT
DTSTART;TZID=Europe/Paris:20260512T190000
DTEND;TZID=Europe/Paris:20260512T200000
SUMMARY:Yoga de l’Âme
CATEGORIE:Stages, Ateliers et Initiations
GEO:44.31195430000000;-1.01336440000000
LOCATION:114 Chemin de Jeanton
Espace hÔMe\, 40160 Parentis-en-Born\, France
URL:https://www.fest.fr/e/2423489
UID:2423489-4@fest.fr
END:VEVENT
BEGIN:VEVENT
DTSTART;TZID=Europe/Paris:20260519T190000
DTEND;TZID=Europe/Paris:20260519T200000
SUMMARY:Yoga de l’Âme
CATEGORIE:Stages, Ateliers et Initiations
GEO:44.31195430000000;-1.01336440000000
LOCATION:114 Chemin de Jeanton
Espace hÔMe\, 40160 Parentis-en-Born\, France
URL:https://www.fest.fr/e/2423489
UID:2423489-5@fest.fr
END:VEVENT
BEGIN:VEVENT
DTSTART;TZID=Europe/Paris:20260526T190000
DTEND;TZID=Europe/Paris:20260526T200000
SUMMARY:Yoga de l’Âme
CATEGORIE:Stages, Ateliers et Initiations
GEO:44.31195430000000;-1.01336440000000
LOCATION:114 Chemin de Jeanton
Espace hÔMe\, 40160 Parentis-en-Born\, France
URL:https://www.fest.fr/e/2423489
UID:2423489-6@fest.fr
END:VEVENT
BEGIN:VEVENT
DTSTART;TZID=Europe/Paris:20260602T190000
DTEND;TZID=Europe/Paris:20260602T200000
SUMMARY:Yoga de l’Âme
CATEGORIE:Stages, Ateliers et Initiations
GEO:44.31195430000000;-1.01336440000000
LOCATION:114 Chemin de Jeanton
Espace hÔMe\, 40160 Parentis-en-Born\, France
URL:https://www.fest.fr/e/2423489
UID:2423489-7@fest.fr
END:VEVENT
BEGIN:VEVENT
DTSTART;TZID=Europe/Paris:20260609T190000
DTEND;TZID=Europe/Paris:20260609T200000
SUMMARY:Yoga de l’Âme
CATEGORIE:Stages, Ateliers et Initiations
GEO:44.31195430000000;-1.01336440000000
LOCATION:114 Chemin de Jeanton
Espace hÔMe\, 40160 Parentis-en-Born\, France
URL:https://www.fest.fr/e/2423489
UID:2423489-8@fest.fr
END:VEVENT
BEGIN:VEVENT
DTSTART;TZID=Europe/Paris:20260616T190000
DTEND;TZID=Europe/Paris:20260616T200000
SUMMARY:Yoga de l’Âme
CATEGORIE:Stages, Ateliers et Initiations
GEO:44.31195430000000;-1.01336440000000
LOCATION:114 Chemin de Jeanton
Espace hÔMe\, 40160 Parentis-en-Born\, France
URL:https://www.fest.fr/e/2423489
UID:2423489-9@fest.fr
END:VEVENT
BEGIN:VEVENT
DTSTART;TZID=Europe/Paris:20260623T190000
DTEND;TZID=Europe/Paris:20260623T200000
SUMMARY:Yoga de l’Âme
CATEGORIE:Stages, Ateliers et Initiations
GEO:44.31195430000000;-1.01336440000000
LOCATION:114 Chemin de Jeanton
Espace hÔMe\, 40160 Parentis-en-Born\, France
URL:https://www.fest.fr/e/2423489
UID:2423489-10@fest.fr
END:VEVENT
BEGIN:VEVENT
DTSTART;TZID=Europe/Paris:20260630T190000
DTEND;TZID=Europe/Paris:20260630T200000
SUMMARY:Yoga de l’Âme
CATEGORIE:Stages, Ateliers et Initiations
GEO:44.31195430000000;-1.01336440000000
LOCATION:114 Chemin de Jeanton
Espace hÔMe\, 40160 Parentis-en-Born\, France
URL:https://www.fest.fr/e/2423489
UID:2423489-11@fest.fr
END:VEVENT
BEGIN:VEVENT
DTSTART;TZID=Europe/Paris:20260707T190000
DTEND;TZID=Europe/Paris:20260707T200000
SUMMARY:Yoga de l’Âme
CATEGORIE:Stages, Ateliers et Initiations
GEO:44.31195430000000;-1.01336440000000
LOCATION:114 Chemin de Jeanton
Espace hÔMe\, 40160 Parentis-en-Born\, France
URL:https://www.fest.fr/e/2423489
UID:2423489-12@fest.fr
END:VEVENT
BEGIN:VEVENT
DTSTART;TZID=Europe/Paris:20260714T190000
DTEND;TZID=Europe/Paris:20260714T200000
SUMMARY:Yoga de l’Âme
CATEGORIE:Stages, Ateliers et Initiations
GEO:44.31195430000000;-1.01336440000000
LOCATION:114 Chemin de Jeanton
Espace hÔMe\, 40160 Parentis-en-Born\, France
URL:https://www.fest.fr/e/2423489
UID:2423489-13@fest.fr
END:VEVENT
BEGIN:VEVENT
DTSTART;TZID=Europe/Paris:20260721T190000
DTEND;TZID=Europe/Paris:20260721T200000
SUMMARY:Yoga de l’Âme
CATEGORIE:Stages, Ateliers et Initiations
GEO:44.31195430000000;-1.01336440000000
LOCATION:114 Chemin de Jeanton
Espace hÔMe\, 40160 Parentis-en-Born\, France
URL:https://www.fest.fr/e/2423489
UID:2423489-14@fest.fr
END:VEVENT
BEGIN:VEVENT
DTSTART;TZID=Europe/Paris:20260728T190000
DTEND;TZID=Europe/Paris:20260728T200000
SUMMARY:Yoga de l’Âme
CATEGORIE:Stages, Ateliers et Initiations
GEO:44.31195430000000;-1.01336440000000
LOCATION:114 Chemin de Jeanton
Espace hÔMe\, 40160 Parentis-en-Born\, France
URL:https://www.fest.fr/e/2423489
UID:2423489-15@fest.fr
END:VEVENT
BEGIN:VEVENT
DTSTART;TZID=Europe/Paris:20260804T190000
DTEND;TZID=Europe/Paris:20260804T200000
SUMMARY:Yoga de l’Âme
CATEGORIE:Stages, Ateliers et Initiations
GEO:44.31195430000000;-1.01336440000000
LOCATION:114 Chemin de Jeanton
Espace hÔMe\, 40160 Parentis-en-Born\, France
URL:https://www.fest.fr/e/2423489
UID:2423489-16@fest.fr
END:VEVENT
BEGIN:VEVENT
DTSTART;TZID=Europe/Paris:20260811T190000
DTEND;TZID=Europe/Paris:20260811T200000
SUMMARY:Yoga de l’Âme
CATEGORIE:Stages, Ateliers et Initiations
GEO:44.31195430000000;-1.01336440000000
LOCATION:114 Chemin de Jeanton
Espace hÔMe\, 40160 Parentis-en-Born\, France
URL:https://www.fest.fr/e/2423489
UID:2423489-17@fest.fr
END:VEVENT
BEGIN:VEVENT
DTSTART;TZID=Europe/Paris:20260818T190000
DTEND;TZID=Europe/Paris:20260818T200000
SUMMARY:Yoga de l’Âme
CATEGORIE:Stages, Ateliers et Initiations
GEO:44.31195430000000;-1.01336440000000
LOCATION:114 Chemin de Jeanton
Espace hÔMe\, 40160 Parentis-en-Born\, France
URL:https://www.fest.fr/e/2423489
UID:2423489-18@fest.fr
END:VEVENT
BEGIN:VEVENT
DTSTART;TZID=Europe/Paris:20260825T190000
DTEND;TZID=Europe/Paris:20260825T200000
SUMMARY:Yoga de l’Âme
CATEGORIE:Stages, Ateliers et Initiations
GEO:44.31195430000000;-1.01336440000000
LOCATION:114 Chemin de Jeanton
Espace hÔMe\, 40160 Parentis-en-Born\, France
URL:https://www.fest.fr/e/2423489
UID:2423489-19@fest.fr
END:VEVENT
BEGIN:VEVENT
DTSTART;TZID=Europe/Paris:20260901T190000
DTEND;TZID=Europe/Paris:20260901T200000
SUMMARY:Yoga de l’Âme
CATEGORIE:Stages, Ateliers et Initiations
GEO:44.31195430000000;-1.01336440000000
LOCATION:114 Chemin de Jeanton
Espace hÔMe\, 40160 Parentis-en-Born\, France
URL:https://www.fest.fr/e/2423489
UID:2423489-20@fest.fr
END:VEVENT
BEGIN:VEVENT
DTSTART;TZID=Europe/Paris:20260908T190000
DTEND;TZID=Europe/Paris:20260908T200000
SUMMARY:Yoga de l’Âme
CATEGORIE:Stages, Ateliers et Initiations
GEO:44.31195430000000;-1.01336440000000
LOCATION:114 Chemin de Jeanton
Espace hÔMe\, 40160 Parentis-en-Born\, France
URL:https://www.fest.fr/e/2423489
UID:2423489-21@fest.fr
END:VEVENT
BEGIN:VEVENT
DTSTART;TZID=Europe/Paris:20260915T190000
DTEND;TZID=Europe/Paris:20260915T200000
SUMMARY:Yoga de l’Âme
CATEGORIE:Stages, Ateliers et Initiations
GEO:44.31195430000000;-1.01336440000000
LOCATION:114 Chemin de Jeanton
Espace hÔMe\, 40160 Parentis-en-Born\, France
URL:https://www.fest.fr/e/2423489
UID:2423489-22@fest.fr
END:VEVENT
BEGIN:VEVENT
DTSTART;TZID=Europe/Paris:20260922T190000
DTEND;TZID=Europe/Paris:20260922T200000
SUMMARY:Yoga de l’Âme
CATEGORIE:Stages, Ateliers et Initiations
GEO:44.31195430000000;-1.01336440000000
LOCATION:114 Chemin de Jeanton
Espace hÔMe\, 40160 Parentis-en-Born\, France
URL:https://www.fest.fr/e/2423489
UID:2423489-23@fest.fr
END:VEVENT
BEGIN:VEVENT
DTSTART;TZID=Europe/Paris:20260929T190000
DTEND;TZID=Europe/Paris:20260929T200000
SUMMARY:Yoga de l’Âme
CATEGORIE:Stages, Ateliers et Initiations
GEO:44.31195430000000;-1.01336440000000
LOCATION:114 Chemin de Jeanton
Espace hÔMe\, 40160 Parentis-en-Born\, France
URL:https://www.fest.fr/e/2423489
UID:2423489-24@fest.fr
END:VEVENT
BEGIN:VEVENT
DTSTART;TZID=Europe/Paris:20261006T190000
DTEND;TZID=Europe/Paris:20261006T200000
SUMMARY:Yoga de l’Âme
CATEGORIE:Stages, Ateliers et Initiations
GEO:44.31195430000000;-1.01336440000000
LOCATION:114 Chemin de Jeanton
Espace hÔMe\, 40160 Parentis-en-Born\, France
URL:https://www.fest.fr/e/2423489
UID:2423489-25@fest.fr
END:VEVENT
BEGIN:VEVENT
DTSTART;TZID=Europe/Paris:20261013T190000
DTEND;TZID=Europe/Paris:20261013T200000
SUMMARY:Yoga de l’Âme
CATEGORIE:Stages, Ateliers et Initiations
GEO:44.31195430000000;-1.01336440000000
LOCATION:114 Chemin de Jeanton
Espace hÔMe\, 40160 Parentis-en-Born\, France
URL:https://www.fest.fr/e/2423489
UID:2423489-26@fest.fr
END:VEVENT
BEGIN:VEVENT
DTSTART;TZID=Europe/Paris:20261020T190000
DTEND;TZID=Europe/Paris:20261020T200000
SUMMARY:Yoga de l’Âme
CATEGORIE:Stages, Ateliers et Initiations
GEO:44.31195430000000;-1.01336440000000
LOCATION:114 Chemin de Jeanton
Espace hÔMe\, 40160 Parentis-en-Born\, France
URL:https://www.fest.fr/e/2423489
UID:2423489-27@fest.fr
END:VEVENT
BEGIN:VEVENT
DTSTART;TZID=Europe/Paris:20261027T190000
DTEND;TZID=Europe/Paris:20261027T200000
SUMMARY:Yoga de l’Âme
CATEGORIE:Stages, Ateliers et Initiations
GEO:44.31195430000000;-1.01336440000000
LOCATION:114 Chemin de Jeanton
Espace hÔMe\, 40160 Parentis-en-Born\, France
URL:https://www.fest.fr/e/2423489
UID:2423489-28@fest.fr
END:VEVENT
BEGIN:VEVENT
DTSTART;TZID=Europe/Paris:20261103T190000
DTEND;TZID=Europe/Paris:20261103T200000
SUMMARY:Yoga de l’Âme
CATEGORIE:Stages, Ateliers et Initiations
GEO:44.31195430000000;-1.01336440000000
LOCATION:114 Chemin de Jeanton
Espace hÔMe\, 40160 Parentis-en-Born\, France
URL:https://www.fest.fr/e/2423489
UID:2423489-29@fest.fr
END:VEVENT
BEGIN:VEVENT
DTSTART;TZID=Europe/Paris:20261110T190000
DTEND;TZID=Europe/Paris:20261110T200000
SUMMARY:Yoga de l’Âme
CATEGORIE:Stages, Ateliers et Initiations
GEO:44.31195430000000;-1.01336440000000
LOCATION:114 Chemin de Jeanton
Espace hÔMe\, 40160 Parentis-en-Born\, France
URL:https://www.fest.fr/e/2423489
UID:2423489-30@fest.fr
END:VEVENT
BEGIN:VEVENT
DTSTART;TZID=Europe/Paris:20261117T190000
DTEND;TZID=Europe/Paris:20261117T200000
SUMMARY:Yoga de l’Âme
CATEGORIE:Stages, Ateliers et Initiations
GEO:44.31195430000000;-1.01336440000000
LOCATION:114 Chemin de Jeanton
Espace hÔMe\, 40160 Parentis-en-Born\, France
URL:https://www.fest.fr/e/2423489
UID:2423489-31@fest.fr
END:VEVENT
BEGIN:VEVENT
DTSTART;TZID=Europe/Paris:20261124T190000
DTEND;TZID=Europe/Paris:20261124T200000
SUMMARY:Yoga de l’Âme
CATEGORIE:Stages, Ateliers et Initiations
GEO:44.31195430000000;-1.01336440000000
LOCATION:114 Chemin de Jeanton
Espace hÔMe\, 40160 Parentis-en-Born\, France
URL:https://www.fest.fr/e/2423489
UID:2423489-32@fest.fr
END:VEVENT
BEGIN:VEVENT
DTSTART;TZID=Europe/Paris:20261201T190000
DTEND;TZID=Europe/Paris:20261201T200000
SUMMARY:Yoga de l’Âme
CATEGORIE:Stages, Ateliers et Initiations
GEO:44.31195430000000;-1.01336440000000
LOCATION:114 Chemin de Jeanton
Espace hÔMe\, 40160 Parentis-en-Born\, France
URL:https://www.fest.fr/e/2423489
UID:2423489-33@fest.fr
END:VEVENT
BEGIN:VEVENT
DTSTART;TZID=Europe/Paris:20261208T190000
DTEND;TZID=Europe/Paris:20261208T200000
SUMMARY:Yoga de l’Âme
CATEGORIE:Stages, Ateliers et Initiations
GEO:44.31195430000000;-1.01336440000000
LOCATION:114 Chemin de Jeanton
Espace hÔMe\, 40160 Parentis-en-Born\, France
URL:https://www.fest.fr/e/2423489
UID:2423489-34@fest.fr
END:VEVENT
BEGIN:VEVENT
DTSTART;TZID=Europe/Paris:20261215T190000
DTEND;TZID=Europe/Paris:20261215T200000
SUMMARY:Yoga de l’Âme
CATEGORIE:Stages, Ateliers et Initiations
GEO:44.31195430000000;-1.01336440000000
LOCATION:114 Chemin de Jeanton
Espace hÔMe\, 40160 Parentis-en-Born\, France
URL:https://www.fest.fr/e/2423489
UID:2423489-35@fest.fr
END:VEVENT
BEGIN:VEVENT
DTSTART;TZID=Europe/Paris:20261222T190000
DTEND;TZID=Europe/Paris:20261222T200000
SUMMARY:Yoga de l’Âme
CATEGORIE:Stages, Ateliers et Initiations
GEO:44.31195430000000;-1.01336440000000
LOCATION:114 Chemin de Jeanton
Espace hÔMe\, 40160 Parentis-en-Born\, France
URL:https://www.fest.fr/e/2423489
UID:2423489-36@fest.fr
END:VEVENT
BEGIN:VEVENT
DTSTART;TZID=Europe/Paris:20261229T190000
DTEND;TZID=Europe/Paris:20261229T200000
SUMMARY:Yoga de l’Âme
CATEGORIE:Stages, Ateliers et Initiations
GEO:44.31195430000000;-1.01336440000000
LOCATION:114 Chemin de Jeanton
Espace hÔMe\, 40160 Parentis-en-Born\, France
URL:https://www.fest.fr/e/2423489
UID:2423489-37@fest.fr
END:VEVENT
END:VCALENDAR
