BEGIN:VCALENDAR
CALSCALE:GREGORIAN
VERSION:2.0
METHOD:PUBLISH 
X-WR-CALNAME:
BEGIN:VEVENT
DTSTART;TZID=Europe/Paris:20260727T143000
DTEND;TZID=Europe/Paris:20260727T153000
SUMMARY:Exposition de l'Atelier Peinture
CATEGORIE:Expositions, Visites et Découvertes
GEO:45.53696000000000;1.79486000000000
LOCATION:Square Paul Pouloux\, 19260 Treignac\, France
URL:https://www.fest.fr/e/2423469
UID:2423469-1@fest.fr
END:VEVENT
END:VCALENDAR
