BEGIN:VCALENDAR
CALSCALE:GREGORIAN
VERSION:2.0
METHOD:PUBLISH 
X-WR-CALNAME:
BEGIN:VEVENT
DTSTART;TZID=Europe/Paris:20260522T080000
DTEND;TZID=Europe/Paris:20260522T090000
SUMMARY:Marché de quartier : Polo Beyris
CATEGORIE:Marchés, Foires et Salons
GEO:43.47938910000000;-1.49921550000000
LOCATION:Place du Polo Beyris\, 64100 Bayonne\, France
URL:https://www.fest.fr/e/2423460
UID:2423460-1@fest.fr
END:VEVENT
END:VCALENDAR
