BEGIN:VCALENDAR
CALSCALE:GREGORIAN
VERSION:2.0
METHOD:PUBLISH 
X-WR-CALNAME:
BEGIN:VEVENT
DTSTART;TZID=Europe/Paris:20260414T093000
DTEND;TZID=Europe/Paris:20260414T103000
SUMMARY:Permanence numérique
CATEGORIE:Stages, Ateliers et Initiations
GEO:45.05153510000000;0.39138684000000
LOCATION:Mairie\, 24400 Sourzac\, France
URL:https://www.fest.fr/e/2423390
UID:2423390-1@fest.fr
END:VEVENT
END:VCALENDAR
