BEGIN:VCALENDAR
CALSCALE:GREGORIAN
VERSION:2.0
METHOD:PUBLISH 
X-WR-CALNAME:
BEGIN:VEVENT
DTSTART;TZID=Europe/Paris:20260420T160000
DTEND;TZID=Europe/Paris:20260420T170000
SUMMARY:Visite Pays d'art et d'histoire : L’église de Ciboure et ses secrets
CATEGORIE:Expositions, Visites et Découvertes
GEO:43.38553290000000;-1.66799430000000
LOCATION:CIAP Les Récollets - Errekoletoak\, 64500 Ciboure\, France
URL:https://www.fest.fr/e/2423351
UID:2423351-1@fest.fr
END:VEVENT
END:VCALENDAR
