BEGIN:VCALENDAR
CALSCALE:GREGORIAN
VERSION:2.0
METHOD:PUBLISH 
X-WR-CALNAME:
BEGIN:VEVENT
DTSTART;TZID=Europe/Paris:20260827T100000
DTEND;TZID=Europe/Paris:20260827T110000
SUMMARY:Initiation à la pelote basque
CATEGORIE:Stages, Ateliers et Initiations
GEO:43.39287130000000;-1.65183620000000
LOCATION:18 avenue André Ithurralde
Jai Alai\, 64500 Saint-Jean-de-Luz\, France
URL:https://www.fest.fr/e/2423311
UID:2423311-1@fest.fr
END:VEVENT
END:VCALENDAR
