BEGIN:VCALENDAR
CALSCALE:GREGORIAN
VERSION:2.0
METHOD:PUBLISH 
X-WR-CALNAME:
BEGIN:VEVENT
DTSTART;TZID=Europe/Paris:20260605T080000
DTEND;TZID=Europe/Paris:20260605T090000
SUMMARY:Fêtes locales de Larbey
CATEGORIE:Fêtes et Animations
GEO:43.70344710000000;-0.71992520000000
LOCATION:155 Route de L'église
Larbey\, 40250 Larbey\, France
URL:https://www.fest.fr/e/2423210
UID:2423210-1@fest.fr
END:VEVENT
END:VCALENDAR
