BEGIN:VCALENDAR
CALSCALE:GREGORIAN
VERSION:2.0
METHOD:PUBLISH 
X-WR-CALNAME:
BEGIN:VEVENT
DTSTART;TZID=Europe/Paris:20260819T080000
DTEND;TZID=Europe/Paris:20260819T090000
SUMMARY:Marché de quartier : Place des gascons
CATEGORIE:Marchés, Foires et Salons
GEO:43.49888000000000;-1.45600000000000
LOCATION:Place des Gascons\, 64100 Bayonne\, France
URL:https://www.fest.fr/e/2423103
UID:2423103-1@fest.fr
END:VEVENT
END:VCALENDAR
