BEGIN:VCALENDAR
CALSCALE:GREGORIAN
VERSION:2.0
METHOD:PUBLISH 
X-WR-CALNAME:
BEGIN:VEVENT
DTSTART;TZID=Europe/Paris:20260411T143000
DTEND;TZID=Europe/Paris:20260411T153000
SUMMARY:Visite Guidée - Balade à Beaune-les-Mines
CATEGORIE:Expositions, Visites et Découvertes
GEO:45.81627740000000;1.26230480000000
LOCATION:Rendez-vous communiqué sur le billet\, 87000 Limoges\, France
URL:https://www.fest.fr/e/2422945
UID:2422945-1@fest.fr
END:VEVENT
END:VCALENDAR
