BEGIN:VCALENDAR
CALSCALE:GREGORIAN
VERSION:2.0
METHOD:PUBLISH 
X-WR-CALNAME:
BEGIN:VEVENT
DTSTART;TZID=Europe/Paris:20260709T150000
DTEND;TZID=Europe/Paris:20260709T160000
SUMMARY:Visite commentée de la ville de Casteljaloux
CATEGORIE:Expositions, Visites et Découvertes
GEO:44.31464550000000;0.08961833000000
LOCATION:Maison du Roy
Place du Roy\, 47700 Casteljaloux\, France
URL:https://www.fest.fr/e/2422907
UID:2422907-1@fest.fr
END:VEVENT
END:VCALENDAR
