BEGIN:VCALENDAR
CALSCALE:GREGORIAN
VERSION:2.0
METHOD:PUBLISH 
X-WR-CALNAME:
BEGIN:VEVENT
DTSTART;TZID=Europe/Paris:20260414T140000
DTEND;TZID=Europe/Paris:20260414T150000
SUMMARY:La Pause EMMAÜS : repair café
CATEGORIE:Stages, Ateliers et Initiations
GEO:45.14873080000000;1.51957710000000
LOCATION:1 avenue Erckmann Chatrian\, 19100 Brive-la-Gaillarde\, France
URL:https://www.fest.fr/e/2422655
UID:2422655-1@fest.fr
END:VEVENT
END:VCALENDAR
