BEGIN:VCALENDAR
CALSCALE:GREGORIAN
VERSION:2.0
METHOD:PUBLISH 
X-WR-CALNAME:
BEGIN:VEVENT
DTSTART;TZID=Europe/Paris:20260627T140000
DTEND;TZID=Europe/Paris:20260627T150000
SUMMARY:Visite guidée de l'arboretum
CATEGORIE:Expositions, Visites et Découvertes
GEO:46.38357670000000;2.19541211000000
LOCATION:Les Châtaigniers\, 23600 Boussac-Bourg\, France
URL:https://www.fest.fr/e/2422584
UID:2422584-1@fest.fr
END:VEVENT
BEGIN:VEVENT
DTSTART;TZID=Europe/Paris:20260711T100000
DTEND;TZID=Europe/Paris:20260711T110000
SUMMARY:Visite guidée de l'arboretum
CATEGORIE:Expositions, Visites et Découvertes
GEO:46.38357670000000;2.19541211000000
LOCATION:Les Châtaigniers\, 23600 Boussac-Bourg\, France
URL:https://www.fest.fr/e/2422584
UID:2422584-2@fest.fr
END:VEVENT
BEGIN:VEVENT
DTSTART;TZID=Europe/Paris:20260801T100000
DTEND;TZID=Europe/Paris:20260801T110000
SUMMARY:Visite guidée de l'arboretum
CATEGORIE:Expositions, Visites et Découvertes
GEO:46.38357670000000;2.19541211000000
LOCATION:Les Châtaigniers\, 23600 Boussac-Bourg\, France
URL:https://www.fest.fr/e/2422584
UID:2422584-3@fest.fr
END:VEVENT
END:VCALENDAR
