BEGIN:VCALENDAR
CALSCALE:GREGORIAN
VERSION:2.0
METHOD:PUBLISH 
X-WR-CALNAME:
BEGIN:VEVENT
DTSTART;TZID=Europe/Paris:20260410T183000
DTEND;TZID=Europe/Paris:20260410T193000
SUMMARY:Soirée Jeu de rôle / Loups Garous
CATEGORIE:Jeux et Concours
GEO:45.88359120000000;2.17244200000000
LOCATION:12 Place Courtaud
Médiathèque à Felletin\, 23500 Felletin\, France
URL:https://www.fest.fr/e/2422554
UID:2422554-1@fest.fr
END:VEVENT
END:VCALENDAR
