BEGIN:VCALENDAR
CALSCALE:GREGORIAN
VERSION:2.0
METHOD:PUBLISH 
X-WR-CALNAME:
BEGIN:VEVENT
DTSTART;TZID=Europe/Paris:20260426T150000
DTEND;TZID=Europe/Paris:20260426T160000
SUMMARY:Opérette : Le Chanteur de Mexico
CATEGORIE:Spectacles et Théâtre
GEO:44.06329800000000;0.65117000000000
LOCATION:Music Halle
Place André Routier\, 47220 Astaffort\, France
URL:https://www.fest.fr/e/2422038
UID:2422038-1@fest.fr
END:VEVENT
END:VCALENDAR
