BEGIN:VCALENDAR
CALSCALE:GREGORIAN
VERSION:2.0
METHOD:PUBLISH 
X-WR-CALNAME:
BEGIN:VEVENT
DTSTART;TZID=Europe/Paris:20270625T200000
DTEND;TZID=Europe/Paris:20270625T210000
SUMMARY:EDOUARD DELOIGNON
CATEGORIE:Spectacles et Théâtre
GEO:48.07539720000000;-0.69955000000000
LOCATION:55 RUE DU MAINE\, 53960 Bonchamp-lès-Laval\, France
URL:https://www.fest.fr/e/2421928
UID:2421928-1@fest.fr
END:VEVENT
END:VCALENDAR
