BEGIN:VCALENDAR
CALSCALE:GREGORIAN
VERSION:2.0
METHOD:PUBLISH 
X-WR-CALNAME:
BEGIN:VEVENT
DTSTART;TZID=Europe/Paris:20270612T200000
DTEND;TZID=Europe/Paris:20270612T210000
SUMMARY:LA TROUPE DU JAMEL COMEDY CLUB
CATEGORIE:Spectacles et Théâtre
GEO:47.47457120000000;-0.54674330000000
LOCATION:33, Boulevard Carnot\, 49000 Angers\, France
URL:https://www.fest.fr/e/2421911
UID:2421911-1@fest.fr
END:VEVENT
END:VCALENDAR
