BEGIN:VCALENDAR
CALSCALE:GREGORIAN
VERSION:2.0
METHOD:PUBLISH 
X-WR-CALNAME:
BEGIN:VEVENT
DTSTART;TZID=Europe/Paris:20260522T190000
DTEND;TZID=Europe/Paris:20260522T200000
SUMMARY:Spectacle | Le petit chaperon rouge
CATEGORIE:Spectacles et Théâtre
GEO:44.84298360000000;0.49226580000000
LOCATION:4 Rue Charles Gonthier
Théâtre du Roi de Coeur\, 24100 Bergerac\, France
URL:https://www.fest.fr/e/2421895
UID:2421895-1@fest.fr
END:VEVENT
END:VCALENDAR
