BEGIN:VCALENDAR
CALSCALE:GREGORIAN
VERSION:2.0
METHOD:PUBLISH 
X-WR-CALNAME:
BEGIN:VEVENT
DTSTART;TZID=Europe/Paris:20260508T100000
DTEND;TZID=Europe/Paris:20260508T110000
SUMMARY:Balade commentée à Saint Brice
CATEGORIE:Randonnées et balades
GEO:44.75157090000000;-1.12519330000000
LOCATION:Parking du plan de baignade de St Brice\, 33740 Arès\, France
URL:https://www.fest.fr/e/2421793
UID:2421793-1@fest.fr
END:VEVENT
BEGIN:VEVENT
DTSTART;TZID=Europe/Paris:20260529T150000
DTEND;TZID=Europe/Paris:20260529T160000
SUMMARY:Balade commentée à Saint Brice
CATEGORIE:Randonnées et balades
GEO:44.75157090000000;-1.12519330000000
LOCATION:Parking du plan de baignade de St Brice\, 33740 Arès\, France
URL:https://www.fest.fr/e/2421793
UID:2421793-2@fest.fr
END:VEVENT
END:VCALENDAR
