BEGIN:VCALENDAR
CALSCALE:GREGORIAN
VERSION:2.0
METHOD:PUBLISH 
X-WR-CALNAME:
BEGIN:VEVENT
DTSTART;TZID=Europe/Paris:20260425T100000
DTEND;TZID=Europe/Paris:20260425T110000
SUMMARY:Visite libre collection Grand Est Micro-Folie Guéret
CATEGORIE:Expositions, Visites et Découvertes
GEO:46.17183640000000;1.87267590000000
LOCATION:6 Avenue Fayolle
Micro-Folie Guéret - Espace Fayolle\, 23000 Guéret\, France
URL:https://www.fest.fr/e/2421631
UID:2421631-1@fest.fr
END:VEVENT
END:VCALENDAR
