BEGIN:VCALENDAR
CALSCALE:GREGORIAN
VERSION:2.0
METHOD:PUBLISH 
X-WR-CALNAME:
BEGIN:VEVENT
DTSTART;TZID=Europe/Paris:20260616T090000
DTEND;TZID=Europe/Paris:20260616T100000
SUMMARY:Balade avec un berger à Iraty
CATEGORIE:Stages, Ateliers et Initiations
GEO:43.16699190000000;-1.22097870000000
LOCATION:361 chemin Peotenia
Ferme Peotenia\, 64220 Saint-Jean-le-Vieux\, France
URL:https://www.fest.fr/e/2421470
UID:2421470-1@fest.fr
END:VEVENT
END:VCALENDAR
