BEGIN:VCALENDAR
CALSCALE:GREGORIAN
VERSION:2.0
METHOD:PUBLISH 
X-WR-CALNAME:
BEGIN:VEVENT
DTSTART;TZID=Europe/Paris:20260624T100000
DTEND;TZID=Europe/Paris:20260624T110000
SUMMARY:Visite commentée de la Chapelle Impériale
CATEGORIE:Expositions, Visites et Découvertes
GEO:43.48452960000000;-1.55503170000000
LOCATION:Chapelle Impériale
Rue des Cent Gardes\, 64200 Biarritz\, France
URL:https://www.fest.fr/e/2421461
UID:2421461-1@fest.fr
END:VEVENT
END:VCALENDAR
