BEGIN:VCALENDAR
CALSCALE:GREGORIAN
VERSION:2.0
METHOD:PUBLISH 
X-WR-CALNAME:
BEGIN:VEVENT
DTSTART;TZID=Europe/Paris:20260530T140000
DTEND;TZID=Europe/Paris:20260530T150000
SUMMARY:Festival Tek A (rt) - Atelier - OH MAKER - DES'AVENTURES
CATEGORIE:Stages, Ateliers et Initiations
GEO:44.49598830000000;0.17692510000000
LOCATION:1-7 Rue Edouard Manet
CESAme-Foyer de la Cité de la Formation\, 47200 Marmande\, France
URL:https://www.fest.fr/e/2421270
UID:2421270-1@fest.fr
END:VEVENT
END:VCALENDAR
