BEGIN:VCALENDAR
CALSCALE:GREGORIAN
VERSION:2.0
METHOD:PUBLISH 
X-WR-CALNAME:
BEGIN:VEVENT
DTSTART;TZID=Europe/Paris:20261007T180000
DTEND;TZID=Europe/Paris:20261007T190000
SUMMARY:Causerie « La Hire est né à Préchacq-les-Bains »
CATEGORIE:Conférences, Forums et Débats
GEO:43.75730800000000;-0.90998200000000
LOCATION:Salons de l’établissement thermal
Thermes de Préchacq\, 40465 Préchacq-les-Bains\, France
URL:https://www.fest.fr/e/2421173
UID:2421173-1@fest.fr
END:VEVENT
END:VCALENDAR
